BEGIN:VCALENDAR
VERSION:2.0
PRODID:-//Zijn - ECPv6.15.20//NONSGML v1.0//EN
CALSCALE:GREGORIAN
METHOD:PUBLISH
X-WR-CALNAME:Zijn
X-ORIGINAL-URL:https://trainingscentrumzijn.nl
X-WR-CALDESC:Evenementen voor Zijn
REFRESH-INTERVAL;VALUE=DURATION:PT1H
X-Robots-Tag:noindex
X-PUBLISHED-TTL:PT1H
BEGIN:VTIMEZONE
TZID:UTC
BEGIN:STANDARD
TZOFFSETFROM:+0000
TZOFFSETTO:+0000
TZNAME:UTC
DTSTART:20230101T000000
END:STANDARD
END:VTIMEZONE
BEGIN:VEVENT
DTSTART;TZID=UTC:20241103T100000
DTEND;TZID=UTC:20241103T120000
DTSTAMP:20260425T161744
CREATED:20241004T113053Z
LAST-MODIFIED:20241004T114524Z
UID:989-1730628000-1730635200@trainingscentrumzijn.nl
SUMMARY:Trage herfstwandeling
DESCRIPTION:De magie van wandelen in de herfst\nWandelen in de herfst is een ervaring die al je zintuigen prikkelt\nen je dichter bij de natuur en jezelf brengt. Het seizoen van kleur\,\nverandering en vertraging biedt de perfecte achtergrond voor een\nrustige wandeling\, waarin je je bewust kunt verbinden met de wereld\nom je heen. \nGa jij mee?\nOp zondag 3 november van 10:00 tot 12:00 uur.\nWe maken een rustige wandeling van ongeveer 7\,5 km. \nWaar?\nOmgeving Assen\nLocatie wordt nader bepaald. \nKosten?\n10\,00 euro\nInclusief thee met wat lekkers.
URL:https://trainingscentrumzijn.nl/event/magie-wandelen-herfst-zintuigen-dichtbij-jezelf-seizoen-kleur-verandering-vertraging-rust/
LOCATION:Trainingscentrum Zijn\, Sambrestraat 36\, Assen\, Drenthe\, 9406PC\, Nederland
ATTACH;FMTTYPE=image/png:https://trainingscentrumzijn.nl/wp-content/uploads/2024/10/Ontwerp-zonder-titel-4.png
ORGANIZER;CN="Hanneke Jager":MAILTO:info@trainingscentrumzijn.nl
END:VEVENT
END:VCALENDAR